BEGIN:VCALENDAR
PRODID:-//AT Content Types//AT Event//EN
VERSION:2.0
METHOD:PUBLISH
BEGIN:VEVENT
DTSTAMP:20260422T194303Z
CREATED:20260323T133932Z
UID:ATEvent-b7e9f591c23d44ea9a1dec5f8c203e30
LAST-MODIFIED:20260323T133940Z
SUMMARY:IVA – Fatturazioni e registrazioni - Sedi secondarie\, contratti estimatori
DTSTART:20260430T124000Z
DTEND:20260430T124000Z
CATEGORIES:scadenze, Fisco, Fisco.IVA e imposte indirette
CLASS:PUBLIC
END:VEVENT
END:VCALENDAR
