BEGIN:VCALENDAR
PRODID:-//AT Content Types//AT Event//EN
VERSION:2.0
METHOD:PUBLISH
BEGIN:VEVENT
DTSTAMP:20260421T071417Z
CREATED:20190311T150017Z
UID:ATEvent-61581509140943eea43e1468ec90ffe4
LAST-MODIFIED:20190311T150250Z
SUMMARY:IVA – Comunicazione delle Liquidazioni Periodiche Trimestrali [NUOVO]
DTSTART:20190410T135500Z
DTEND:20190410T135500Z
CATEGORIES:Fisco, scadenze
CLASS:PUBLIC
END:VEVENT
END:VCALENDAR
