BEGIN:VCALENDAR
PRODID:-//AT Content Types//AT Event//EN
VERSION:2.0
METHOD:PUBLISH
BEGIN:VEVENT
DTSTAMP:20260420T174402Z
CREATED:20240404T122706Z
UID:ATEvent-493719ea316d43a99f6820265040428c
LAST-MODIFIED:20240404T123137Z
SUMMARY:IRPEF – Secondo acconto Persone Fisiche titolari di Partita IVA – Versamento Rateale
DTSTART:20240516T123000Z
DTEND:20240516T123000Z
CATEGORIES:Fisco.Reddito d'impresa e IRAP, Fisco, scadenze
CLASS:PUBLIC
END:VEVENT
END:VCALENDAR
