BEGIN:VCALENDAR
PRODID:-//AT Content Types//AT Event//EN
VERSION:2.0
METHOD:PUBLISH
BEGIN:VEVENT
DTSTAMP:20260423T191130Z
CREATED:20260323T134034Z
UID:ATEvent-761575ee395347ca9a2cdce3a6cd3368
LAST-MODIFIED:20260323T134041Z
SUMMARY:IRES e IRAP – Soggetti con esercizio non coincidente con l’anno solare
DTSTART:20260430T124000Z
DTEND:20260430T124000Z
CATEGORIES:Fisco.Reddito d'impresa e IRAP, Fisco, scadenze
CLASS:PUBLIC
END:VEVENT
END:VCALENDAR
