BEGIN:VCALENDAR
PRODID:-//AT Content Types//AT Event//EN
VERSION:2.0
METHOD:PUBLISH
BEGIN:VEVENT
DTSTAMP:20260423T191301Z
CREATED:20260323T134145Z
UID:ATEvent-fddb26d7073141c9baedc4fd405f98b4
LAST-MODIFIED:20260323T134149Z
SUMMARY:Definizione delle liti pendenti – Versamento rateale mensile
DTSTART:20260430T124000Z
DTEND:20260430T124000Z
CATEGORIES:Fisco.Riscossione e accertamento, Fisco, scadenze
CLASS:PUBLIC
END:VEVENT
END:VCALENDAR
