BEGIN:VCALENDAR
PRODID:-//AT Content Types//AT Event//EN
VERSION:2.0
METHOD:PUBLISH
BEGIN:VEVENT
DTSTAMP:20260422T194221Z
CREATED:20260122T112708Z
UID:ATEvent-1828f7e6a9624921ad30349509074511
LAST-MODIFIED:20260323T131530Z
SUMMARY:Certificazione Unica 2026 – Lavoratori Autonomi Professionali
DTSTART:20260430T102500Z
DTEND:20260430T102500Z
CATEGORIES:Fisco.Reddito di lavoro dipendente, Fisco, scadenze
CLASS:PUBLIC
END:VEVENT
END:VCALENDAR
