BEGIN:VCALENDAR
PRODID:-//AT Content Types//AT Event//EN
VERSION:2.0
METHOD:PUBLISH
BEGIN:VEVENT
DTSTAMP:20260421T082850Z
CREATED:20130213T094224Z
UID:ATEvent-50622bbeef240b8dca7d0b958a0596ed
LAST-MODIFIED:20130213T094333Z
SUMMARY:Assistenza fiscale – Mod. 730-4
DTSTART:20130331T084500Z
DTEND:20130331T084500Z
CATEGORIES:Fisco, scadenze
CLASS:PUBLIC
END:VEVENT
END:VCALENDAR
