BEGIN:VCALENDAR
PRODID:-//AT Content Types//AT Event//EN
VERSION:2.0
METHOD:PUBLISH
BEGIN:VEVENT
DTSTAMP:20260423T091146Z
CREATED:20140801T092901Z
UID:ATEvent-7d5d511386f6863b56fd259e24771776
LAST-MODIFIED:20140801T124507Z
SUMMARY:Risparmiare sul costo dell'energia: Assolombarda ti spiega come
DTSTART:20140916T150000Z
DTEND:20140916T170000Z
LOCATION:S.I.P.A. Bindi Spa - Via della Liberazione 1\, San Giuliano Milanese
CONTACT:sportello.energia@assolombarda.it
URL:https://www.assolombarda.it/servizi/energia/appuntamenti/risparmiare-sul-costo-dellenergia-assolombarda-ti-spiega-come
CLASS:PUBLIC
END:VEVENT
END:VCALENDAR
