BEGIN:VCALENDAR
PRODID:-//AT Content Types//AT Event//EN
VERSION:2.0
METHOD:PUBLISH
BEGIN:VEVENT
DTSTAMP:20260420T113950Z
CREATED:20140212T154133Z
UID:ATEvent-f0e51fd773c581cb51fe76fa3a61f6d0
LAST-MODIFIED:20140217T092543Z
SUMMARY:Energia meno cara: oggi è possibile? Rischi e opportunità nell'attuale mercato dell'energia
DTSTART:20140310T083000Z
DTEND:20140310T120000Z
DESCRIPTION:Assolombarda organizza questo incontro\, rivolto a tutte l
 e aziende\, per approfondire le tematiche relative ai mercati dell'ene
 rgia e per presentare i servizi che lo Sportello Energia mette a dispo
 sizione delle aziende per la fornitura di energia elettrica e gas natu
 rale.
LOCATION:- Assolombarda - Sala Falck (piano interrato) - Via Chiaravalle 8\, Milano
CONTACT:sportello.energia@assolombarda.it
URL:https://www.assolombarda.it/servizi/energia/appuntamenti/10-marzo-2014-energia-meno-cara-oggi-e-possibile-rischi-e-opportunita-nellattuale-mercato-dellenergia
CLASS:PUBLIC
END:VEVENT
END:VCALENDAR
