BEGIN:VCALENDAR
PRODID:-//AT Content Types//AT Event//EN
VERSION:2.0
METHOD:PUBLISH
BEGIN:VEVENT
DTSTAMP:20260421T181451Z
CREATED:20130109T085128Z
UID:ATEvent-f4db011c28a5a6eac3b6afc9b764934c
LAST-MODIFIED:20220804T144630Z
SUMMARY:Fondo di Garanzia per le pmi: le nuove caratteristiche di intervento
DTSTART:20130228T091500Z
DTEND:20130228T120000Z
DESCRIPTION:Il workshop è dedicato all'approfondimento del Fondo di G
 aranzia per le pmi\, la principale agevolazione nazionale per favorire
  l'accesso al credito.
LOCATION:- Assolombarda - Auditorium Gio Ponti (piano interrato) - Via Pantano 9\, Milano
CONTACT:fin@asslombarda.it
URL:https://www.assolombarda.it/servizi/credito-finanza-e-incentivi/appuntamenti/workshop-fondo-di-garanzia-per-le-pmi-le-nuove-caratteristiche-di-intervento
CLASS:PUBLIC
END:VEVENT
END:VCALENDAR
