BEGIN:VCALENDAR
PRODID:-//AT Content Types//AT Event//EN
VERSION:2.0
METHOD:PUBLISH
BEGIN:VEVENT
DTSTAMP:20260421T175949Z
CREATED:20201014T083145Z
UID:ATEvent-a6e87870d0b54704a69e1fcefb2fcd2d
LAST-MODIFIED:20220804T144625Z
SUMMARY:Webinar Intangible Assets: le soluzioni assicurative per liberare liquidità delle aziende al tempo del COVID 19
DTSTART:20201104T150000Z
DTEND:20201104T163000Z
DESCRIPTION:Con lo sviluppo della tecnologia e l’aumentare del valor
 e degli asset intangibili anche il mondo assicurativo rielabora e ampl
 ia le proprie coperture per venire incontro alle nuove esigenze dei pr
 opri clienti.
LOCATION:Incontro online
URL:https://www.assolombarda.it/servizi/credito-finanza-e-incentivi/appuntamenti/webinar-intangible-assets-le-soluzioni-assicurative-per-liberare-liquidita-delle-aziende-al-tempo-del-covid-19
CLASS:PUBLIC
END:VEVENT
END:VCALENDAR
