BEGIN:VCALENDAR
PRODID:-//AT Content Types//AT Event//EN
VERSION:2.0
METHOD:PUBLISH
BEGIN:VEVENT
DTSTAMP:20260421T203230Z
CREATED:20171010T134820Z
UID:ATEvent-b8e09b389b414d6ea5520567920cb56c
LAST-MODIFIED:20220804T144629Z
SUMMARY:webinar conosci il tuo rating
DTSTART:20171116T163000Z
DTEND:20171116T180000Z
DESCRIPTION:Nell’ambito dell’attività della Piccola Industria il 
 tema Credito e Finanza risulta strategico quindi\, il primo percorso i
 nformativo che vi proponiamo\, è focalizzato sul rating.
LOCATION:- Assolombarda - Via Pantano 9\, Milano
CONTACT:fin@assolombarda.it
URL:https://www.assolombarda.it/servizi/credito-finanza-e-incentivi/appuntamenti/webinar-conosci-il-tuo-rating
CLASS:PUBLIC
END:VEVENT
END:VCALENDAR
