BEGIN:VCALENDAR
PRODID:-//AT Content Types//AT Event//EN
VERSION:2.0
METHOD:PUBLISH
BEGIN:VEVENT
DTSTAMP:20260421T191057Z
CREATED:20190729T131156Z
UID:ATEvent-0109089cfee748e99e0c6516466f5790
LAST-MODIFIED:20220804T144626Z
SUMMARY:VIDA International brokerage event
DTSTART:20190912T071500Z
DTEND:20190912T140000Z
DESCRIPTION:Durante l'incontro verranno presentate le ultime novità s
 ul sostegno all'efficienza delle risorse nei settori cibo-energia-acqu
 a. Alcune aziende presenteranno sfide e soluzioni per l'efficienza del
 le risorse nel settore agroalimentare.
LOCATION:- Assolombarda - Sala Falck (piano interrato) - Via Chiaravalle 8\, Milano
URL:https://www.assolombarda.it/servizi/credito-finanza-e-incentivi/appuntamenti/vda-international-brokerage-event
CLASS:PUBLIC
END:VEVENT
END:VCALENDAR
