BEGIN:VCALENDAR
PRODID:-//AT Content Types//AT Event//EN
VERSION:2.0
METHOD:PUBLISH
BEGIN:VEVENT
DTSTAMP:20260421T174625Z
CREATED:20210126T144055Z
UID:ATEvent-e6801c3e38b54feaae3d886592ed9f9b
LAST-MODIFIED:20220804T144634Z
SUMMARY:Valorizzare la sostenibilità delle imprese: strumenti e soluzioni per la crescita
DTSTART:20210223T130000Z
DTEND:20210223T150000Z
DESCRIPTION:La sostenibilità è un driver strategico di successo e di
  creazione di valore nel lungo periodo per tutte le imprese. Il webina
 r ha l’obiettivo di presentare l’utilità e la necessità di raffo
 rzarne l'approccio non solo per sostenere progetti aziendali\, ma anch
 e rispetto alle nuove sfide globali.
LOCATION:Incontro online
URL:https://www.assolombarda.it/servizi/credito-finanza-e-incentivi/appuntamenti/valorizzare-la-sostenibilita-delle-imprese-l2019strumenti-e-soluzioni-per-la-crescita
CLASS:PUBLIC
END:VEVENT
END:VCALENDAR
