BEGIN:VCALENDAR
PRODID:-//AT Content Types//AT Event//EN
VERSION:2.0
METHOD:PUBLISH
BEGIN:VEVENT
DTSTAMP:20260421T174237Z
CREATED:20210323T171455Z
UID:ATEvent-12ece8a1092f4829b13a34c0422b93b4
LAST-MODIFIED:20220804T144633Z
SUMMARY:Valorizzare la sostenibilità delle aziende: strumenti e soluzioni per la crescita
DTSTART:20210415T080000Z
DTEND:20210415T093000Z
DESCRIPTION:La sostenibilità è un driver strategico di successo e di
  creazione di valore nel lungo periodo per tutte le imprese. Il webina
 r ha l’obiettivo di presentare l’utilità e la necessità di raffo
 rzarne l'approccio non solo per sostenere progetti aziendali\, ma anch
 e rispetto alle nuove sfide globali.
LOCATION:Incontro online
URL:https://www.assolombarda.it/servizi/credito-finanza-e-incentivi/appuntamenti/valorizzare-la-sostenibilita-delle-aziende-strumenti-e-soluzioni-per-la-crescita
CLASS:PUBLIC
END:VEVENT
END:VCALENDAR
