BEGIN:VCALENDAR
PRODID:-//AT Content Types//AT Event//EN
VERSION:2.0
METHOD:PUBLISH
BEGIN:VEVENT
DTSTAMP:20260421T185839Z
CREATED:20190912T105347Z
UID:ATEvent-53d93f3f8bb2496095b858d05d6c45ad
LAST-MODIFIED:20220804T144625Z
SUMMARY:Una giornata tra i numeri
DTSTART:20191120T090000Z
DTEND:20191120T120000Z
DESCRIPTION:L'incontro ha l’obiettivo di aiutare le piccole e medie 
 imprese a comprendere come devono costruire e raccontare il proprio bu
 siness\, utilizzando senza indugi e senza eccessi anche strumenti volo
 ntari che possano permettere di comunicare efficacemente\, concretamen
 te e semplicemente il valore che genereranno negli anni. \nPer chi fos
 se impossibilitato a partecipare ricordiamo che l'incontro potrà esse
 re seguito in diretta streaming.
LOCATION:- Videoconferenza: Viale Francesco Petrarca 10\, Monza
CONTACT:fin@assolombarda.it
URL:https://www.assolombarda.it/servizi/credito-finanza-e-incentivi/appuntamenti/una-giornata-tra-i-numeri
CLASS:PUBLIC
END:VEVENT
END:VCALENDAR
