BEGIN:VCALENDAR
PRODID:-//AT Content Types//AT Event//EN
VERSION:2.0
METHOD:PUBLISH
BEGIN:VEVENT
DTSTAMP:20260421T203557Z
CREATED:20180109T141438Z
UID:ATEvent-0469b325fca54d5d97e3ac7965d5f14d
LAST-MODIFIED:20220804T144635Z
SUMMARY:Una giornata tra i numeri: Analisi di Bilancio - Il Rendiconto Finanziario - Business Plan
DTSTART:20180410T080000Z
DTEND:20180410T110000Z
DESCRIPTION:L’incontro vuole essere un momento pratico di conoscenza
  e comprensione della situazione economico finanziaria della propria i
 mpresa al fine di aumentare la consapevolezza delle proprie decisioni.
 
LOCATION:- Assolombarda Confindustria Milano Monza e Brianza - Aula informatica MB12 - Via Chiesa 3\, Monza
CONTACT:fin@assolombarda.it
URL:https://www.assolombarda.it/servizi/credito-finanza-e-incentivi/appuntamenti/una-giornata-tra-i-numeri-analisi-di-bilancio-il-rendiconto-finanziario-business-plan
CLASS:PUBLIC
END:VEVENT
END:VCALENDAR
