BEGIN:VCALENDAR
PRODID:-//AT Content Types//AT Event//EN
VERSION:2.0
METHOD:PUBLISH
BEGIN:VEVENT
DTSTAMP:20260421T180112Z
CREATED:20201021T133031Z
UID:ATEvent-5fd1dcdb5b714513a84a56e19e1b21c6
LAST-MODIFIED:20220804T144620Z
SUMMARY:Trasforma il pagamento delle spese corporate in opportunità per la sua azienda
DTSTART:20201111T160000Z
DTEND:20201111T170000Z
DESCRIPTION:La gestione delle spese per ottimizzare i flussi di cassa.
 
LOCATION:Incontro online
URL:https://www.assolombarda.it/servizi/credito-finanza-e-incentivi/appuntamenti/trasforma-il-pagamento-delle-spese-corporate-in-opportunita-per-la-sua-azienda
CLASS:PUBLIC
END:VEVENT
END:VCALENDAR
