BEGIN:VCALENDAR
PRODID:-//AT Content Types//AT Event//EN
VERSION:2.0
METHOD:PUBLISH
BEGIN:VEVENT
DTSTAMP:20260421T193641Z
CREATED:20131213T114500Z
UID:ATEvent-d4ebfdc18c5d3047fe24d1055c1380a7
LAST-MODIFIED:20220804T144631Z
SUMMARY:Strumenti e tecniche di analisi di bilancio – Formazione finanziata 8 - 15 maggio
DTSTART:20140508T070000Z
DTEND:20140515T160000Z
DESCRIPTION:Corso di formazione finanziata tramite Fondimpresa che mir
 a a fornire indicazioni utili per una corretta interpretazione del bil
 ancio d'esercizio e migliorare i risultati aziendali.
LOCATION:- Assolombarda - Sala Ingresso (piano terra) - Via Pantano 9\, Milano
URL:https://www.assolombarda.it/servizi/credito-finanza-e-incentivi/appuntamenti/strumenti-e-tecniche-di-analisi-di-bilancio-2013-formazione-finanziata-8-15-maggio
CLASS:PUBLIC
END:VEVENT
END:VCALENDAR
