BEGIN:VCALENDAR
PRODID:-//AT Content Types//AT Event//EN
VERSION:2.0
METHOD:PUBLISH
BEGIN:VEVENT
DTSTAMP:20260421T210352Z
CREATED:20141210T132045Z
UID:ATEvent-8e61271fe4db6432c09ecc1cf1de831e
LAST-MODIFIED:20220804T144632Z
SUMMARY:Strumenti e tecniche di analisi di bilancio – Formazione Finanziata 13 aprile 2015
DTSTART:20150413T070000Z
DTEND:20150413T160000Z
DESCRIPTION:Corso di formazione finanziata tramite Fondimpresa che mir
 a a fornire indicazioni utili per una corretta interpretazione del bil
 ancio d'esercizio e migliorare i risultati aziendali.
LOCATION:- Assolombarda - Sala Bianchi (4° piano) - Via Pantano 9\, Milano
URL:https://www.assolombarda.it/servizi/credito-finanza-e-incentivi/appuntamenti/strumenti-e-tecniche-di-analisi-di-bilancio-2013-formazione-finanziata-13-aprile-2015
CLASS:PUBLIC
END:VEVENT
END:VCALENDAR
