BEGIN:VCALENDAR
PRODID:-//AT Content Types//AT Event//EN
VERSION:2.0
METHOD:PUBLISH
BEGIN:VEVENT
DTSTAMP:20260421T181241Z
CREATED:20121204T111534Z
UID:ATEvent-57ce88d103c696972e6e0eb9d290ae9b
LAST-MODIFIED:20220804T144630Z
SUMMARY:Strumenti bancari per ritardati pagamenti
DTSTART:20130523T080000Z
DTEND:20130523T110000Z
DESCRIPTION:Incontro informativo gratuito
LOCATION:- Assolombarda - Sala Bracco (piano interrato) - Via Chiaravalle 8\, Milano
CONTACT:fin@assolombarda.it
URL:https://www.assolombarda.it/servizi/credito-finanza-e-incentivi/appuntamenti/strumenti-bancari-per-ritardati-pagamenti
CLASS:PUBLIC
END:VEVENT
END:VCALENDAR
