BEGIN:VCALENDAR
PRODID:-//AT Content Types//AT Event//EN
VERSION:2.0
METHOD:PUBLISH
BEGIN:VEVENT
DTSTAMP:20260421T193905Z
CREATED:20131216T143514Z
UID:ATEvent-3aa34167eb0c5f027b00af02b6df47d2
LAST-MODIFIED:20220804T144632Z
SUMMARY:Strategie di rilancio aziendale. Strumenti ordinari e agevolati per sostenere le PMI nel rilancio d’impresa
DTSTART:20140521T130000Z
DTEND:20140521T153000Z
DESCRIPTION:Illustrare le finalità dell’intervento ed approfondire 
 gli strumenti previsti dalla nuova disciplina in materia di ristruttur
 azione del debito\, con particolare riferimento alle procedure di corr
 etta gestione dell’indebitamento e alle opportunità di concessione 
 di nuova finanza.
LOCATION:- Assolombarda - Sala Falck (piano interrato) - Via Chiaravalle 8\, Milano
CONTACT:fin@assolombarda.it
URL:https://www.assolombarda.it/servizi/credito-finanza-e-incentivi/appuntamenti/strumenti-a-sostegno-del-rilancio-aziendale-novita-normative-e-strategie-di-ripresa
CLASS:PUBLIC
END:VEVENT
END:VCALENDAR
