BEGIN:VCALENDAR
PRODID:-//AT Content Types//AT Event//EN
VERSION:2.0
METHOD:PUBLISH
BEGIN:VEVENT
DTSTAMP:20260421T201948Z
CREATED:20181029T113639Z
UID:ATEvent-55744fda34b64f0aa64eca6521994e59
LAST-MODIFIED:20220804T144635Z
SUMMARY:Stati Generali del Credito
DTSTART:20181112T130000Z
DTEND:20181113T120000Z
DESCRIPTION:Un momento importante di confronto tra imprese\, istituzio
 ni e mondo finanziario in cui dimostrare che è possibile individuare 
 e discutere temi di comune interesse\, sui quali trovare la maggiore c
 onvergenza possibile e dai quali partire per definire proposte di camb
 iamento nell'interesse dell’economia del Paese.
LOCATION:- Assolombarda - Auditorium Gio Ponti (piano interrato) - Via Pantano 9\, Milano
URL:https://www.assolombarda.it/servizi/credito-finanza-e-incentivi/appuntamenti/stati-generali-del-credito
CLASS:PUBLIC
END:VEVENT
END:VCALENDAR
