BEGIN:VCALENDAR
PRODID:-//AT Content Types//AT Event//EN
VERSION:2.0
METHOD:PUBLISH
BEGIN:VEVENT
DTSTAMP:20260421T181641Z
CREATED:20120702T093106Z
UID:ATEvent-8cc8c50537f962f7fd58096d83bc95ca
LAST-MODIFIED:20220804T144627Z
SUMMARY:Dall'Innovazione la ripresa: 9 miliardi per vincere la sfida del mercato globale
DTSTART:20120919T083000Z
DTEND:20120919T110000Z
DESCRIPTION:Ricerca e Innovazione: queste le parole d’ordine per apr
 ire il ‘forziere’ che custodisce i quasi 9 miliardi di euro pronti
  ad essere distribuiti attraverso nuovi strumenti comunitari\, naziona
 li e regionali di recente apertura.
LOCATION:- Assolombarda - Auditorium Gio Ponti (piano interrato) - Via Pantano 9\, Milano
CONTACT:fin@assolombarda.it
URL:https://www.assolombarda.it/servizi/credito-finanza-e-incentivi/appuntamenti/soluzioni-concrete-per-agevolare-i-processi-di-fusione-e-acquisizione-aziendale
CLASS:PUBLIC
END:VEVENT
END:VCALENDAR
