BEGIN:VCALENDAR
PRODID:-//AT Content Types//AT Event//EN
VERSION:2.0
METHOD:PUBLISH
BEGIN:VEVENT
DTSTAMP:20260421T181555Z
CREATED:20121204T095025Z
UID:ATEvent-210c1bc9dc0c9e9356352c1679eb7451
LAST-MODIFIED:20220804T144630Z
SUMMARY:Soluzioni concrete per agevolare i processi di acquisizione aziendale
DTSTART:20130123T090000Z
DTEND:20130123T120000Z
DESCRIPTION:L’incontro ha l’obiettivo fornire alle imprese un quad
 ro di riferimento per valutare\, sia dal punto di vista finanziario ch
 e fiscale\, gli strumenti valutativi più idonei ad ottimizzare i proc
 essi di fusione e acquisizione d’impresa.
LOCATION:- Assolombarda - Sala Falck (piano interrato) - Via Chiaravalle 8\, Milano
CONTACT:fin@assolombarda.it
URL:https://www.assolombarda.it/servizi/credito-finanza-e-incentivi/appuntamenti/soluzioni-concrete-per-agevolare-i-processi-di-acquisizione-aziendale
CLASS:PUBLIC
END:VEVENT
END:VCALENDAR
