BEGIN:VCALENDAR
PRODID:-//AT Content Types//AT Event//EN
VERSION:2.0
METHOD:PUBLISH
BEGIN:VEVENT
DTSTAMP:20260421T174824Z
CREATED:20210907T090130Z
UID:ATEvent-ed66d90abac94729aa78698af4c5c158
LAST-MODIFIED:20220804T144625Z
SUMMARY:PNRR - Le opportunità per le imprese: incentivi Simest per l’internazionalizzazione
DTSTART:20211021T093000Z
DTEND:20211021T110000Z
DESCRIPTION:Incontro informativo di aggiornamento sugli incentivi SIME
 ST finanziati dal PNRR il cui sportello per la presentazione delle dom
 ande aprirà il 28 ottobre 2021.
LOCATION:Webinar
CONTACT:fin@assolombarda.it
URL:https://www.assolombarda.it/servizi/credito-finanza-e-incentivi/appuntamenti/simest-fondo-394-81-rifinanziamento-e-ridefinizione-delle-misure-apertura-sportello-28-ottobre-2021
CLASS:PUBLIC
END:VEVENT
END:VCALENDAR
