BEGIN:VCALENDAR
PRODID:-//AT Content Types//AT Event//EN
VERSION:2.0
METHOD:PUBLISH
BEGIN:VEVENT
DTSTAMP:20260421T193931Z
CREATED:20130611T103648Z
UID:ATEvent-f6b7bdb565ff9b931bc2fa2fb61a8fe4
LAST-MODIFIED:20220804T144631Z
SUMMARY:SEPA: per un'economia intelligente in grado di aumentare l'efficienza aziendale
DTSTART:20131106T090000Z
DTEND:20131106T120000Z
DESCRIPTION:La migrazione alla SEPA e l'end date del 1/2/2014: siamo p
 ronti per la SEPA?
LOCATION:- Assolombarda - Sala Falck (piano interrato) - Via Chiaravalle 8\, Milano
CONTACT:fin@assolombarda.it
URL:https://www.assolombarda.it/servizi/credito-finanza-e-incentivi/appuntamenti/sepa-per-uneconomia-intelligente-in-grado-di-aumentare-lefficienza-in-azienda-1
CLASS:PUBLIC
END:VEVENT
END:VCALENDAR
