BEGIN:VCALENDAR
PRODID:-//AT Content Types//AT Event//EN
VERSION:2.0
METHOD:PUBLISH
BEGIN:VEVENT
DTSTAMP:20260421T174043Z
CREATED:20210927T072631Z
UID:ATEvent-eeb755ab067c4462aa235a483a3037f1
LAST-MODIFIED:20220804T144625Z
SUMMARY:Ripartiamo assieme! Focus sui mancati pagamenti e sugli strumenti di copertura del rischio
DTSTART:20211015T093000Z
DTEND:20211015T110000Z
DESCRIPTION:Una delle minacce maggiormente acuite dal Covid-19 è il r
 ischio di mancato pagamento. Come gestirlo? Quali sono gli strumenti a
  disposizione delle imprese? A quali mercati esteri puntare in questa 
 delicata fase di ripresa?
LOCATION:Webinar
URL:https://www.assolombarda.it/servizi/credito-finanza-e-incentivi/appuntamenti/ripartiamo-assieme-focus-sui-mancati-pagamenti-e-analisi-dei-mercati-esteri-a-maggior-rilancio
CLASS:PUBLIC
END:VEVENT
END:VCALENDAR
