BEGIN:VCALENDAR
PRODID:-//AT Content Types//AT Event//EN
VERSION:2.0
METHOD:PUBLISH
BEGIN:VEVENT
DTSTAMP:20260421T214108Z
CREATED:20170731T105957Z
UID:ATEvent-0cf6c9a5417043c6a7b3be56d099dd3a
LAST-MODIFIED:20220804T144625Z
SUMMARY:Rendiconto Finanziario e Business Plan
DTSTART:20171108T090000Z
DTEND:20171108T120000Z
DESCRIPTION:L'incontro ha l’obiettivo di aiutare le piccole e medie 
 imprese a comprendere come devono costruire e raccontare il proprio bu
 siness\, utilizzando senza indugi e senza eccessi anche strumenti volo
 ntari che possano permettere di comunicare efficacemente\, concretamen
 te e semplicemente il valore che genereranno negli anni.
LOCATION:- Assolombarda Confindustria Milano Monza e Brianza - Sala Falck (piano interrato) - Via Chiaravalle 8\, Milano
CONTACT:fin@assolombarda.it
URL:https://www.assolombarda.it/servizi/credito-finanza-e-incentivi/appuntamenti/rendiconto-finanziario-e-business-plan
CLASS:PUBLIC
END:VEVENT
END:VCALENDAR
