BEGIN:VCALENDAR
PRODID:-//AT Content Types//AT Event//EN
VERSION:2.0
METHOD:PUBLISH
BEGIN:VEVENT
DTSTAMP:20260421T210218Z
CREATED:20141210T133547Z
UID:ATEvent-44ff5bbdc7078562b0d3f6b783edb015
LAST-MODIFIED:20220804T144632Z
SUMMARY:Redditività e solvibilità d'impresa – Formazione Finanziata 11 maggio 2015
DTSTART:20150511T070000Z
DTEND:20150511T160000Z
DESCRIPTION:Corso di formazione finanziata tramite Ecole che mira a fo
 rnire gli strumenti per interpretare i più significativi indicatori d
 i redditività e solvibilità finanziaria.
LOCATION:- Assolombarda - Sala Bianchi (4° piano) - Via Pantano 9\, Milano
URL:https://www.assolombarda.it/servizi/credito-finanza-e-incentivi/appuntamenti/redditivita-e-solvibilita-dimpresa-2013-formazione-finanziata-11-maggio-2015
CLASS:PUBLIC
END:VEVENT
END:VCALENDAR
