BEGIN:VCALENDAR
PRODID:-//AT Content Types//AT Event//EN
VERSION:2.0
METHOD:PUBLISH
BEGIN:VEVENT
DTSTAMP:20260421T193642Z
CREATED:20140228T142636Z
UID:ATEvent-a978d4866fbbe42fb21d7f64cc8c4142
LAST-MODIFIED:20220804T144632Z
SUMMARY:Redditività e solvibilità d'impresa – Formazione finanziata 10 - 17 giugno
DTSTART:20140610T070000Z
DTEND:20140617T160000Z
DESCRIPTION:Corso di formazione finanziata tramite Ecole che mira a fo
 rnire gli strumenti per interpretare i più significativi indicatori d
 i redditività e solvibilità finanziaria.
LOCATION:- Assolombarda - Sala Ingresso (piano terra) - Via Pantano 9\, Milano
URL:https://www.assolombarda.it/servizi/credito-finanza-e-incentivi/appuntamenti/redditivita-e-solvibilita-dimpresa-2013-formazione-finanziata-10-17-giugno-1
CLASS:PUBLIC
END:VEVENT
END:VCALENDAR
