BEGIN:VCALENDAR
PRODID:-//AT Content Types//AT Event//EN
VERSION:2.0
METHOD:PUBLISH
BEGIN:VEVENT
DTSTAMP:20260421T202224Z
CREATED:20180619T090639Z
UID:ATEvent-e0db41be700e465681788c48bb9a3556
LAST-MODIFIED:20220804T144629Z
SUMMARY:Quanto vale la mia impresa? I principali metodi per stimarne il valore.
DTSTART:20181128T090000Z
DTEND:20181128T120000Z
LOCATION:- Assolombarda - Sala Falck (piano interrato) - Via Chiaravalle 8\, Milano
URL:https://www.assolombarda.it/servizi/credito-finanza-e-incentivi/appuntamenti/quanto-vale-la-mia-impresa-i-principali-metodi-per-stimarne-il-valore
CLASS:PUBLIC
END:VEVENT
END:VCALENDAR
