BEGIN:VCALENDAR
PRODID:-//AT Content Types//AT Event//EN
VERSION:2.0
METHOD:PUBLISH
BEGIN:VEVENT
DTSTAMP:20260421T175755Z
CREATED:20200803T070447Z
UID:ATEvent-9f8195f090e34e6d8b0d5c14ca0cca76
LAST-MODIFIED:20220804T144624Z
SUMMARY:Quanto vale la mia impresa? I principali metodi per stimarne il valore
DTSTART:20200924T073000Z
DTEND:20200924T090000Z
DESCRIPTION:Quali sono i fattori che ne determinano il valore e qual Ã
 ¨ il metodo piÃ¹ corretto per misurarlo? Domande non semplici a cui ce
 rcheremo di dare risposta fornendo a imprenditori e CFO gli elementi n
 ecessari per costruire e calcolare una prima valutazione aziendale.
LOCATION:Incontro online
URL:https://www.assolombarda.it/servizi/credito-finanza-e-incentivi/appuntamenti/quanto-vale-la-mia-impresa-i-principali-metodi-per-stimarne-il-valore-1
CLASS:PUBLIC
END:VEVENT
END:VCALENDAR
