BEGIN:VCALENDAR
PRODID:-//AT Content Types//AT Event//EN
VERSION:2.0
METHOD:PUBLISH
BEGIN:VEVENT
DTSTAMP:20260421T191253Z
CREATED:20190621T090507Z
UID:ATEvent-fa874686b7314f89a29de7ee84f9d4a8
LAST-MODIFIED:20220804T144634Z
SUMMARY:Puntiamo sulla crescita! Aperitivo con Banco Desio
DTSTART:20190703T160000Z
DTEND:20190703T180000Z
LOCATION:- Assolombarda\, Presidio Territoriale di Monza e Brianza - Sala Istituzionale - Via Damiano Chiesa 3\, Monza
URL:https://www.assolombarda.it/servizi/credito-finanza-e-incentivi/appuntamenti/puntiamo-sulla-crescita-aperitivo-con-banco-desio
CLASS:PUBLIC
END:VEVENT
END:VCALENDAR
