BEGIN:VCALENDAR
PRODID:-//AT Content Types//AT Event//EN
VERSION:2.0
METHOD:PUBLISH
BEGIN:VEVENT
DTSTAMP:20260420T052128Z
CREATED:20121016T083144Z
UID:ATEvent-eedd7ef3fdc8914939ba63c2adcb6ac4
LAST-MODIFIED:20220804T144630Z
SUMMARY:Finanziamenti a Km 0: un'opportunità per le imprese associate
DTSTART:20121205T163000Z
DTEND:20121205T180000Z
DESCRIPTION:Assolombarda e UBI desiderano presentare una nuova modalit
 à di finanziamento dove le risorse finanziarie raccolte sul territori
 o vengono utilizzate per favorire la crescita delle imprese che operan
 o sullo stesso.
LOCATION:- Assolombarda - Sala Camerana (6° piano) - Via Pantano 9\, Milano
CONTACT:fin@assolombarda.it
URL:https://www.assolombarda.it/servizi/credito-finanza-e-incentivi/appuntamenti/progetto-t2-territorio-per-il-territorio
CLASS:PUBLIC
END:VEVENT
END:VCALENDAR
