BEGIN:VCALENDAR
PRODID:-//AT Content Types//AT Event//EN
VERSION:2.0
METHOD:PUBLISH
BEGIN:VEVENT
DTSTAMP:20260421T214422Z
CREATED:20170614T144937Z
UID:ATEvent-a02b5b96e6524dd090036315d1ac6335
LAST-MODIFIED:20220804T144624Z
SUMMARY:Progettare il futuro - Accelerazione\, trasformazione digitale\, competitività.
DTSTART:20170628T140000Z
DTEND:20170628T170000Z
DESCRIPTION:Accordo tra Intesa Sanpaolo e Confindustria Piccola Indust
 ria
LOCATION:Reggiani Illuminazione – Viale Monza 16\, Sovico (MB)
CONTACT:piccola.industria@assolombarda.it
URL:https://www.assolombarda.it/servizi/credito-finanza-e-incentivi/appuntamenti/progettare-il-futuro-accelerazione-trasformazione-digitale-competitivita
CLASS:PUBLIC
END:VEVENT
END:VCALENDAR
