BEGIN:VCALENDAR
PRODID:-//AT Content Types//AT Event//EN
VERSION:2.0
METHOD:PUBLISH
BEGIN:VEVENT
DTSTAMP:20260421T205706Z
CREATED:20140718T145809Z
UID:ATEvent-2cc8c336a13c77ee8033a528e77aa27b
LAST-MODIFIED:20220804T144632Z
SUMMARY:Previsionale - Bancopass
DTSTART:20141203T090000Z
DTEND:20141203T120000Z
DESCRIPTION:L’incontro ha l’obiettivo di fornire delle indicazioni
  su come predisporre delle proiezioni di conto economico e stato patri
 moniale utili sia per una pianificazione interna\, sia da presentazion
 e a potenziali investitori.
LOCATION:- Assolombarda - Sala Bracco (piano interrato) - Via Chiaravalle 8\, Milano
CONTACT:fin@assolombarda.it
URL:https://www.assolombarda.it/servizi/credito-finanza-e-incentivi/appuntamenti/previsionale-bancopass
CLASS:PUBLIC
END:VEVENT
END:VCALENDAR
