BEGIN:VCALENDAR
PRODID:-//AT Content Types//AT Event//EN
VERSION:2.0
METHOD:PUBLISH
BEGIN:VEVENT
DTSTAMP:20260421T205706Z
CREATED:20150720T111951Z
UID:ATEvent-d9f3019e484dc7ccb559395c2c30b6e3
LAST-MODIFIED:20220804T144633Z
SUMMARY:Previsionale - Bancopass
DTSTART:20151125T090000Z
DTEND:20151125T120000Z
DESCRIPTION:Inserito all'interno del ciclo di 5 incontri del corso gra
 tuito Executive Bancopass\, inziativa che anche il Ministero dello Svi
 luppo Economico ha deciso di sostenere rilasciando il proprio patrocin
 io\, l’incontro ha l’obiettivo di fornire delle indicazioni su com
 e predisporre delle proiezioni di conto economico e business plan che 
 siano utili ad una prima presentazione agli investitori.
LOCATION:- Assolombarda Confindustria Milano Monza e Brianza - Sala Falck (piano interrato) - Via Chiaravalle 8\, Milano
CONTACT:fin@assolombarda.it
URL:https://www.assolombarda.it/servizi/credito-finanza-e-incentivi/appuntamenti/previsionale-bancopass-2
CLASS:PUBLIC
END:VEVENT
END:VCALENDAR
