BEGIN:VCALENDAR
PRODID:-//AT Content Types//AT Event//EN
VERSION:2.0
METHOD:PUBLISH
BEGIN:VEVENT
DTSTAMP:20260421T205803Z
CREATED:20141218T160227Z
UID:ATEvent-d22218c62aa457d4cadab4f92ec76aa3
LAST-MODIFIED:20220804T144632Z
SUMMARY:Previsionale - Bancopass
DTSTART:20150415T080000Z
DTEND:20150415T110000Z
DESCRIPTION:L’incontro ha l’obiettivo di fornire delle indicazioni
  su come predisporre delle proiezioni di conto economico che siano uti
 li ad una prima presentazione agli investitori.
LOCATION:- Assolombarda - Sala Bracco (piano interrato) - Via Chiaravalle 8\, Milano
CONTACT:fin@assolombarda.it
URL:https://www.assolombarda.it/servizi/credito-finanza-e-incentivi/appuntamenti/previsionale-bancopass-1
CLASS:PUBLIC
END:VEVENT
END:VCALENDAR
