BEGIN:VCALENDAR
PRODID:-//AT Content Types//AT Event//EN
VERSION:2.0
METHOD:PUBLISH
BEGIN:VEVENT
DTSTAMP:20260421T180118Z
CREATED:20201015T143458Z
UID:ATEvent-9f5b7f9404184dceac780307f0251f92
LAST-MODIFIED:20220804T144622Z
SUMMARY:Presentazione delle linee guida alla redazione del Business Plan - La best practice dell'ODCEC di Milano
DTSTART:20201021T073000Z
DTEND:20201021T090000Z
LOCATION:Incontro online
URL:https://www.assolombarda.it/servizi/credito-finanza-e-incentivi/appuntamenti/presentazione-linee-guida-alla-redazione-del-business-plan-dell2019odcec-milano-la-best-practice-per-la-pianificazione-d2019impresa-ai-tempi-del-covid
CLASS:PUBLIC
END:VEVENT
END:VCALENDAR
