BEGIN:VCALENDAR
PRODID:-//AT Content Types//AT Event//EN
VERSION:2.0
METHOD:PUBLISH
BEGIN:VEVENT
DTSTAMP:20260421T214452Z
CREATED:20161026T111405Z
UID:ATEvent-b1e15598562f4051ba64b5a095fd10c8
LAST-MODIFIED:20220804T144628Z
SUMMARY:#piùcredito. Presentati al meglio\, investi su trasparenza e credibilità
DTSTART:20161201T083000Z
DTEND:20161201T110000Z
DESCRIPTION:Credibilità e trasparenza aiutano le imprese ad essere vi
 sibili in un mercato finanziario in rapida evoluzione\, che favorisce 
 imprese in grado di autovalutarsi\, di individuare i propri fabbisogni
  e di presentarsi in modo appropriato ai terzi finanziatori.
LOCATION:- Assolombarda Confindustria Milano Monza e Brianza - Auditorium Gio Ponti (piano interrato) - Via Pantano 9\, Milano
CONTACT:fin@assolombarda.it
URL:https://www.assolombarda.it/servizi/credito-finanza-e-incentivi/appuntamenti/piucredito-presentati-al-meglio-investi-su-trasparenza-e-credibilita
CLASS:PUBLIC
END:VEVENT
END:VCALENDAR
