BEGIN:VCALENDAR
PRODID:-//AT Content Types//AT Event//EN
VERSION:2.0
METHOD:PUBLISH
BEGIN:VEVENT
DTSTAMP:20260421T194028Z
CREATED:20131216T144328Z
UID:ATEvent-b9c225e17e5f59f8f76ebaddcdbc4c3c
LAST-MODIFIED:20220804T144632Z
SUMMARY:Pianificare la vendita/acquisto di azienda: valutazione\, impatto fiscale e struttura societaria
DTSTART:20140715T080000Z
DTEND:20140715T110000Z
DESCRIPTION:L’incontro ha l’obiettivo fornire alle imprese un quad
 ro di riferimento per valutare\, sia dal punto di vista finanziario ch
 e fiscale\, gli strumenti valutativi più idonei ad ottimizzare i proc
 essi di fusione e acquisizione d’impresa.
LOCATION:- Assolombarda - Sala Falck (piano interrato) - Via Chiaravalle 8\, Milano
CONTACT:fin@assolombarda.it
URL:https://www.assolombarda.it/servizi/credito-finanza-e-incentivi/appuntamenti/pianificare-la-vendita-acquisizione-d2019azienda-valutazione-impatto-fiscale-e-struttura-societaria
CLASS:PUBLIC
END:VEVENT
END:VCALENDAR
