BEGIN:VCALENDAR
PRODID:-//AT Content Types//AT Event//EN
VERSION:2.0
METHOD:PUBLISH
BEGIN:VEVENT
DTSTAMP:20260421T194530Z
CREATED:20131021T125957Z
UID:ATEvent-c2ddd5f563adfa06d0496612e4437d47
LAST-MODIFIED:20220804T144631Z
SUMMARY:Piani di rilancio aziendale: da Regione Lombardia 3 milioni di euro per la consulenza strategica alle PMI
DTSTART:20131104T090000Z
DTEND:20131104T120000Z
DESCRIPTION:In tempi di crisi avere consapevolezza della propria situa
 zione finanziaria è fondamentale per gestire al meglio l’eccessivo 
 indebitamento e garantire la continuità d’impresa.
LOCATION:- Assolombarda - Sala Falck (piano interrato) - Via Chiaravalle 8\, Milano
CONTACT:fin@assolombarda.it
URL:https://www.assolombarda.it/servizi/credito-finanza-e-incentivi/appuntamenti/piani-di-rilancio-aziendale-da-regione-lombardia-3-milioni-di-euro-per-la-consulenza-strategica-delle-pmi
CLASS:PUBLIC
END:VEVENT
END:VCALENDAR
