BEGIN:VCALENDAR
PRODID:-//AT Content Types//AT Event//EN
VERSION:2.0
METHOD:PUBLISH
BEGIN:VEVENT
DTSTAMP:20260421T193536Z
CREATED:20140306T083108Z
UID:ATEvent-96a410486646e66aacba1a8bbb3aedee
LAST-MODIFIED:20220804T144632Z
SUMMARY:Patrimonializzarsi per crescere. Strumenti e casi di successo
DTSTART:20140402T080000Z
DTEND:20140402T110000Z
DESCRIPTION:Obiettivo del workshop è illustrare gli strumenti operati
 vi per facilitare i processi di patrimonializzazione e il loro impatto
  sui processi di sviluppo e continuità aziendale. Ampio spazio sarà 
 dato a casi di successo seguiti da Assolombarda.
LOCATION:- Assolombarda - Auditorium Gio Ponti (piano interrato) - Via Pantano 9\, Milano
CONTACT:fin@assolombarda.it
URL:https://www.assolombarda.it/servizi/credito-finanza-e-incentivi/appuntamenti/patrimonializzarsi-per-crescere.-strumenti-e-casi-di-successo
CLASS:PUBLIC
END:VEVENT
END:VCALENDAR
