BEGIN:VCALENDAR
PRODID:-//AT Content Types//AT Event//EN
VERSION:2.0
METHOD:PUBLISH
BEGIN:VEVENT
DTSTAMP:20260421T190152Z
CREATED:20200210T145107Z
UID:ATEvent-8027e243d3e04d0a99b3a9d7a6b44cee
LAST-MODIFIED:20220804T144620Z
SUMMARY:Operazioni di M&A: un'opportunità non solo per le grandi imprese - In videoconferenza con il Presidio di Monza
DTSTART:20200306T090000Z
DTEND:20200306T120000Z
DESCRIPTION:In un contesto sempre più dinamico e senza confini\, le o
 perazioni di M&A possono rappresentare uno strumento di vantaggio comp
 etitivo e non solo per le grandissime aziende.  Il mercato della finan
 za straordinaria è sempre più in fermento e la corretta valutazione 
 è la sfida principale da affrontare.
LOCATION:- Videoconferenza: Viale Francesco Petrarca 10\, Monza
URL:https://www.assolombarda.it/servizi/credito-finanza-e-incentivi/appuntamenti/operazioni-di-m-a-unopportunita-non-solo-per-le-grandi-imprese
CLASS:PUBLIC
END:VEVENT
END:VCALENDAR
