BEGIN:VCALENDAR
PRODID:-//AT Content Types//AT Event//EN
VERSION:2.0
METHOD:PUBLISH
BEGIN:VEVENT
DTSTAMP:20260421T181821Z
CREATED:20121204T112126Z
UID:ATEvent-8e885a52e0f2abf8a54b5a7a1c7cb7ce
LAST-MODIFIED:20220804T144630Z
SUMMARY:Obiettivi e finalità dell'analisi andamentale: dalla valutazione della CR alla valutazione del rapporto con l'impresa
DTSTART:20130611T080000Z
DTEND:20130611T110000Z
DESCRIPTION:Incontro informativo gratuito in collaborazione con Confid
 i Province Lombarde e Unicredit sulla Centrale Rischi.
LOCATION:- Assolombarda - Sala Falck (piano interrato) - Via Chiaravalle 8\, Milano
CONTACT:fin@assolombarda.it
URL:https://www.assolombarda.it/servizi/credito-finanza-e-incentivi/appuntamenti/obiettivit-e-finalita-dellanalisi-andamentale-dalla-valutazione-della-cr-alla-valutazione-del-rapporto-con-limpresa
CLASS:PUBLIC
END:VEVENT
END:VCALENDAR
