BEGIN:VCALENDAR
PRODID:-//AT Content Types//AT Event//EN
VERSION:2.0
METHOD:PUBLISH
BEGIN:VEVENT
DTSTAMP:20260421T193516Z
CREATED:20140522T063351Z
UID:ATEvent-1ca586f891744d251fe23449d6486d7b
LAST-MODIFIED:20220804T144632Z
SUMMARY:Nuovi strumenti di finanziamento: il Crowdfunding
DTSTART:20140620T080000Z
DTEND:20140620T110000Z
DESCRIPTION:Il corso si rivolge agli imprenditori di piccole e medie i
 mprese (già esistenti o in fase di start-up) desiderosi di far cresce
 re il proprio business e investire\, diversificando le fonti di finanz
 iamento rispetto al tradizionale sistema bancario.
LOCATION:- Assolombarda - Sala Bianchi (4° piano) - Via Pantano 9\, Milano
CONTACT:fin@assolombarda.it
URL:https://www.assolombarda.it/servizi/credito-finanza-e-incentivi/appuntamenti/nuovi-strumenti-di-finanziamento-il-crowdfunding
CLASS:PUBLIC
END:VEVENT
END:VCALENDAR
