BEGIN:VCALENDAR
PRODID:-//AT Content Types//AT Event//EN
VERSION:2.0
METHOD:PUBLISH
BEGIN:VEVENT
DTSTAMP:20260421T210142Z
CREATED:20140718T142755Z
UID:ATEvent-f10838f12d58742536da764d6d9a89ce
LAST-MODIFIED:20220804T144632Z
SUMMARY:Nuovi strumenti di finanziamento: il Crowdfunding
DTSTART:20140929T080000Z
DTEND:20140929T110000Z
DESCRIPTION:L’incontro si rivolge ad imprenditori di imprese di picc
 ole e medie dimensioni (già esistenti o in fase di start up) desidero
 si di far crescere il proprio business e investire\, diversificando le
  fonti di finanziamento rispetto al tradizionale bancario.
LOCATION:- Assolombarda - Sala Meregalli (piano interrato) - Via Pantano 9\, Milano
CONTACT:fin@assolombarda.it
URL:https://www.assolombarda.it/servizi/credito-finanza-e-incentivi/appuntamenti/nuovi-strumenti-di-finanziamento-il-crowdfunding-1
CLASS:PUBLIC
END:VEVENT
END:VCALENDAR
