BEGIN:VCALENDAR
PRODID:-//AT Content Types//AT Event//EN
VERSION:2.0
METHOD:PUBLISH
BEGIN:VEVENT
DTSTAMP:20260421T201948Z
CREATED:20181203T140141Z
UID:ATEvent-599b5c871e2d405796e0b8f14f03a509
LAST-MODIFIED:20220804T144628Z
SUMMARY:Nuovi canali di finanziamento
DTSTART:20190408T080000Z
DTEND:20190408T110000Z
DESCRIPTION:L'incontro ha il fine di esplorare i principali canali e s
 trumenti di finanziamento innovativi e complementari al sistema bancar
 io che le imprese possono usare a sostegno delle proprie esigenze.
LOCATION:- Assolombarda - Sala Falck (piano interrato) - Via Chiaravalle 8\, Milano
URL:https://www.assolombarda.it/servizi/credito-finanza-e-incentivi/appuntamenti/nuovi-canali-di-finanziamento
CLASS:PUBLIC
END:VEVENT
END:VCALENDAR
