BEGIN:VCALENDAR
PRODID:-//AT Content Types//AT Event//EN
VERSION:2.0
METHOD:PUBLISH
BEGIN:VEVENT
DTSTAMP:20260421T214153Z
CREATED:20170731T085843Z
UID:ATEvent-112a2baa889c4b86bf2de05be526a766
LAST-MODIFIED:20220804T144628Z
SUMMARY:Nuovi canali di finanziamento per le imprese
DTSTART:20171018T080000Z
DTEND:20171018T110000Z
DESCRIPTION:L'incontro ha il fine di esplorare i principali canali e s
 trumenti di finanziamento innovativi e complementari al sistema bancar
 io che le imprese possono usare a sostegno delle proprie esigenze.
LOCATION:- Assolombarda Confindustria Milano Monza e Brianza - Sala Congressi (piano interrato) - Viale Francesco Petrarca 10\, Monza
CONTACT:fin@assolombarda.it
URL:https://www.assolombarda.it/servizi/credito-finanza-e-incentivi/appuntamenti/nuovi-canali-di-finanziamento-per-le-imprese
CLASS:PUBLIC
END:VEVENT
END:VCALENDAR
